BEGIN:VCALENDAR
PRODID:-//Events Calendar//iCal4j 1.0//EN
CALSCALE:GREGORIAN
BEGIN:VEVENT
DTSTAMP:20260420T030821Z
DTSTART:20260506T130000
DTEND:20260506T170000
SUMMARY:Inloopmiddag klimaatadaptatie & afkoppelen regenwater
TZID:Europe/Brussels
UID:20260420T030821Z-uidGen@fe80:0:0:0:8c5f:78ff:fe54:862%eth0
DESCRIPTION:Op woensdagmiddag is er van 13.00 tot 17.00 uur extra informatie beschikbaar in de Energiewinkel. Je kunt dan terecht voor gespecialiseerde kennis over klimaatadaptatie en het afkoppelen van regenwater of over vergroenen en biodiverser maken van je tuin. 
LOCATION:Energiewinkel\, Dorpsstraat 92 in Renkum
END:VEVENT
END:VCALENDAR
